BEGIN:VCALENDAR
VERSION:2.0
PRODID:https://fortbildungen.medicover.de
BEGIN:VTIMEZONE
TZID:Europe/Berlin
BEGIN:DAYLIGHT
DTSTART:20250330T010000
TZOFFSETFROM:+0100
TZOFFSETTO:+0200
END:DAYLIGHT
BEGIN:STANDARD
DTSTART:20251026T030000
TZOFFSETFROM:+0200
TZOFFSETTO:+0100
END:STANDARD
BEGIN:DAYLIGHT
DTSTART:20260329T010000
TZOFFSETFROM:+0100
TZOFFSETTO:+0200
END:DAYLIGHT
END:VTIMEZONE
BEGIN:VTIMEZONE
TZID:UTC
BEGIN:STANDARD
DTSTART:20250726T165450
TZOFFSETFROM:+0000
TZOFFSETTO:+0000
END:STANDARD
END:VTIMEZONE
BEGIN:VEVENT
UID:4c2067d9
DTSTAMP:20260422T165450Z
SUMMARY:EKG leicht gemacht: Sicher erkennen\, richtig handeln
CLASS:PUBLIC
DTSTART;TZID=Europe/Berlin:20251203T130000
DTEND;TZID=Europe/Berlin:20251203T161500
END:VEVENT
END:VCALENDAR